BEGIN:VCALENDAR
VERSION:2.0
PRODID:-//Chook Digital//Classic Cinemas//EN
BEGIN:VEVENT
DTSTAMP:20200229T231200Z
UID:no-reply@classiccinemas.com.au
DTSTART:20200325T130000Z
DTEND:20200325T151500Z
LOCATION:9 Gordon Street Elsternwick 3185
SUMMARY;LANGUAGE=en-au:Classic Cinemas: Mulan
DESCRIPTION:Mulan\nA young Chinese maiden disguises herself as a male warrior in order to save her father.
X-ALT-DESC;FMTTYPE=text/html:<strong>Classic Cinemas: Mulan</strong><p>A young Chinese maiden disguises herself as a male warrior in order to save her father.</p>
END:VEVENT
END:VCALENDAR