BEGIN:VCALENDAR
METHOD:PUBLISH
PRODID:-//github.com/ical-org/ical.net//NONSGML ical.net 5.2.0//EN
VERSION:2.0
X-WR-CALNAME:we-are-not-powerless
X-WR-TIMEZONE:Australia/Sydney
BEGIN:VEVENT
DESCRIPTION:We Are Not Powerless: In the shadow of Australia’s notorious 
 ‘Stop The Boats’ policy\, a group of refugees prove that hope\, commun
 ity & connection can change the world.
DTSTAMP:20260423T162307Z
DTSTART:20260530T140000Z
LOCATION:9 Gordon Street\, Elsternwick\, VIC 3185
SEQUENCE:0
SUMMARY:Classic Cinemas: We Are Not Powerless
UID:4902ec14-8bd6-412f-9742-6d5e1c1ceb8c
END:VEVENT
END:VCALENDAR
