BEGIN:VCALENDAR
METHOD:PUBLISH
PRODID:-//github.com/ical-org/ical.net//NONSGML ical.net 5.2.0//EN
VERSION:2.0
X-WR-CALNAME:tom-jerry-forbidden-compass
X-WR-TIMEZONE:Australia/Sydney
BEGIN:VEVENT
DESCRIPTION:Tom & Jerry: Forbidden Compass: 
DTSTAMP:20260423T162307Z
DTSTART:20260812T140000Z
LOCATION:9 Gordon Street\, Elsternwick\, VIC 3185
SEQUENCE:0
SUMMARY:Classic Cinemas: Tom & Jerry: Forbidden Compass
UID:270ab985-06e0-4908-b327-9a68315b3718
END:VEVENT
END:VCALENDAR
