BEGIN:VCALENDAR
METHOD:PUBLISH
PRODID:-//github.com/ical-org/ical.net//NONSGML ical.net 5.2.0//EN
VERSION:2.0
X-WR-CALNAME:the-last-whale-singer
X-WR-TIMEZONE:Australia/Sydney
BEGIN:VEVENT
DESCRIPTION:The Last Whale Singer: 
DTSTAMP:20260423T162418Z
DTSTART:20260923T140000Z
LOCATION:9 Gordon Street\, Elsternwick\, VIC 3185
SEQUENCE:0
SUMMARY:Classic Cinemas: The Last Whale Singer
UID:b6c3e29c-f940-4af2-9d4c-1243a68ca44a
END:VEVENT
END:VCALENDAR
