BEGIN:VCALENDAR
METHOD:PUBLISH
PRODID:-//github.com/ical-org/ical.net//NONSGML ical.net 5.2.0//EN
VERSION:2.0
X-WR-CALNAME:the-good-boy
X-WR-TIMEZONE:Australia/Sydney
BEGIN:VEVENT
DESCRIPTION:The Good Boy: 
DTSTAMP:20260422T105057Z
DTSTART:20260701T140000Z
LOCATION:9 Gordon Street\, Elsternwick\, VIC 3185
SEQUENCE:0
SUMMARY:Classic Cinemas: The Good Boy
UID:98d6b049-907c-402b-98b4-e694bc5ce9be
END:VEVENT
END:VCALENDAR
