BEGIN:VCALENDAR
METHOD:PUBLISH
PRODID:-//github.com/ical-org/ical.net//NONSGML ical.net 5.2.0//EN
VERSION:2.0
X-WR-CALNAME:the-amazing-digital-circus-the-last-act
X-WR-TIMEZONE:Australia/Sydney
BEGIN:VEVENT
DESCRIPTION:The Amazing Digital Circus: The Last Act: "The viral internet s
 ensation “The Amazing Digital Circus” comes to its long-awaited conclu
 sion in a feature-length theatrical release!
DTSTAMP:20260423T162539Z
DTSTART:20260603T140000Z
LOCATION:9 Gordon Street\, Elsternwick\, VIC 3185
SEQUENCE:0
SUMMARY:Classic Cinemas: The Amazing Digital Circus: The Last Act
UID:af19da89-78e6-4238-8b60-f4cb03e09506
END:VEVENT
END:VCALENDAR
