BEGIN:VCALENDAR
METHOD:PUBLISH
PRODID:-//github.com/ical-org/ical.net//NONSGML ical.net 5.2.0//EN
VERSION:2.0
X-WR-CALNAME:passenger
X-WR-TIMEZONE:Australia/Sydney
BEGIN:VEVENT
DESCRIPTION:Passenger: A few weeks into their van life adventure\, a young 
 couple witnesses a horrific accident that leaves the driver dead.
DTSTAMP:20260423T162246Z
DTSTART:20260520T140000Z
LOCATION:9 Gordon Street\, Elsternwick\, VIC 3185
SEQUENCE:0
SUMMARY:Classic Cinemas: Passenger
UID:d930e209-2501-4ac1-b0fe-5b7194fdabbe
END:VEVENT
END:VCALENDAR
