BEGIN:VCALENDAR
METHOD:PUBLISH
PRODID:-//github.com/ical-org/ical.net//NONSGML ical.net 5.2.0//EN
VERSION:2.0
X-WR-CALNAME:in-the-grey
X-WR-TIMEZONE:Australia/Sydney
BEGIN:VEVENT
DESCRIPTION:In the Grey: 
DTSTAMP:20260423T162342Z
DTSTART:20260513T140000Z
LOCATION:9 Gordon Street\, Elsternwick\, VIC 3185
SEQUENCE:0
SUMMARY:Classic Cinemas: In the Grey
UID:9adbff6e-7cdf-472a-a289-387b235e54df
END:VEVENT
END:VCALENDAR
