BEGIN:VCALENDAR
METHOD:PUBLISH
PRODID:-//github.com/ical-org/ical.net//NONSGML ical.net 5.2.0//EN
VERSION:2.0
X-WR-CALNAME:billie-eilish-hit-me-hard-and-soft-the-tour
X-WR-TIMEZONE:Australia/Sydney
BEGIN:VEVENT
DESCRIPTION:Billie Eilish - Hit Me Hard And Soft: The Tour: 
DTSTAMP:20260423T162459Z
DTSTART:20260506T140000Z
LOCATION:9 Gordon Street\, Elsternwick\, VIC 3185
SEQUENCE:0
SUMMARY:Classic Cinemas: Billie Eilish - Hit Me Hard And Soft: The Tour
UID:7aa9a49f-cb09-4118-8f6e-63ef7d7b3c66
END:VEVENT
END:VCALENDAR
