BEGIN:VCALENDAR
METHOD:PUBLISH
PRODID:-//github.com/ical-org/ical.net//NONSGML ical.net 5.2.0//EN
VERSION:2.0
X-WR-CALNAME:backrooms
X-WR-TIMEZONE:Australia/Sydney
BEGIN:VEVENT
DESCRIPTION:Backrooms: 
DTSTAMP:20260423T162241Z
DTSTART:20260527T140000Z
LOCATION:9 Gordon Street\, Elsternwick\, VIC 3185
SEQUENCE:0
SUMMARY:Classic Cinemas: Backrooms
UID:b055a436-6381-4d64-9b63-45eb743faa00
END:VEVENT
END:VCALENDAR
